BEGIN:VCALENDAR
VERSION:2.0
PRODID:-//Alcoholics Anonymous Regina - ECPv6.15.13//NONSGML v1.0//EN
CALSCALE:GREGORIAN
METHOD:PUBLISH
X-WR-CALNAME:Alcoholics Anonymous Regina
X-ORIGINAL-URL:https://aaregina.org
X-WR-CALDESC:Events for Alcoholics Anonymous Regina
REFRESH-INTERVAL;VALUE=DURATION:PT1H
X-Robots-Tag:noindex
X-PUBLISHED-TTL:PT1H
BEGIN:VTIMEZONE
TZID:America/Regina
BEGIN:STANDARD
TZOFFSETFROM:-0600
TZOFFSETTO:-0600
TZNAME:CST
DTSTART:20250101T000000
END:STANDARD
END:VTIMEZONE
BEGIN:VEVENT
DTSTART;TZID=America/Regina:20260102T120000
DTEND;TZID=America/Regina:20260102T130000
DTSTAMP:20260425T101814
CREATED:20251229T161309Z
LAST-MODIFIED:20251229T161344Z
UID:13621-1767355200-1767358800@aaregina.org
SUMMARY:Jasmine H. 10 yrs- OTLB
DESCRIPTION:Please join the Out to Lunch Bunch in celebrating Jasmine H’s 10 year sobriety anniversary.
URL:https://aaregina.org/event/jasmine-h-10-yrs-otlb/
LOCATION:Sk.
CATEGORIES:Birthday
END:VEVENT
BEGIN:VEVENT
DTSTART;TZID=America/Regina:20260119T200000
DTEND;TZID=America/Regina:20260119T210000
DTSTAMP:20260425T101814
CREATED:20251229T161634Z
LAST-MODIFIED:20251229T161723Z
UID:13623-1768852800-1768856400@aaregina.org
SUMMARY:Donna M. 30 yrs- Harmony Group
DESCRIPTION:Please join the Harmony Group in celebrating the 30th sobriety anniversary of Donna M.
URL:https://aaregina.org/event/donna-m-30-yrs-harmony-group/
LOCATION:Sk.
CATEGORIES:Birthday
END:VEVENT
END:VCALENDAR