BEGIN:VCALENDAR
VERSION:2.0
PRODID:-//Alcoholics Anonymous Regina - ECPv6.15.13//NONSGML v1.0//EN
CALSCALE:GREGORIAN
METHOD:PUBLISH
X-ORIGINAL-URL:https://aaregina.org
X-WR-CALDESC:Events for Alcoholics Anonymous Regina
REFRESH-INTERVAL;VALUE=DURATION:PT1H
X-Robots-Tag:noindex
X-PUBLISHED-TTL:PT1H
BEGIN:VTIMEZONE
TZID:America/Regina
BEGIN:STANDARD
TZOFFSETFROM:-0600
TZOFFSETTO:-0600
TZNAME:CST
DTSTART:20250101T000000
END:STANDARD
END:VTIMEZONE
BEGIN:VEVENT
DTSTART;TZID=America/Regina:20260215T110000
DTEND;TZID=America/Regina:20260215T120000
DTSTAMP:20260425T083154
CREATED:20260112T171723Z
LAST-MODIFIED:20260119T202148Z
UID:13633-1771153200-1771156800@aaregina.org
SUMMARY:Emil S. 35 yrs- Sunday Meeting in the Park
DESCRIPTION:Please join us in celebrating the 35 year sobriety anniversary for Emil S. Meeting is held in room 105 at the Knox Presbyterian Church.
URL:https://aaregina.org/event/13633/
LOCATION:Knox Presbyterian Church (Regina)\, 2340 Victoria Ave\, Regina\, SK\, S4P 0S6\, Canada
CATEGORIES:Birthday
END:VEVENT
BEGIN:VEVENT
DTSTART;TZID=America/Regina:20260220T200000
DTEND;TZID=America/Regina:20260220T210000
DTSTAMP:20260425T083154
CREATED:20260204T193458Z
LAST-MODIFIED:20260204T193459Z
UID:13682-1771617600-1771621200@aaregina.org
SUMMARY:Donna B. 45 yrs- Vibank Group
DESCRIPTION:Please come and join us in celebrating the 45 year sobriety birthday of Donna B. This will be an open meeting with food and fellowship to follow. \n\n\n\n\n\n\n\n\n1-yr-AA-for-Curtis-S\n\n\n1 yr AA for Curtis SDownload
URL:https://aaregina.org/event/donna-b-45-yrs-vibank-group/
LOCATION:Sk.
CATEGORIES:Birthday
END:VEVENT
BEGIN:VEVENT
DTSTART;TZID=America/Regina:20260220T200000
DTEND;TZID=America/Regina:20260220T210000
DTSTAMP:20260425T083154
CREATED:20260204T193706Z
LAST-MODIFIED:20260204T193707Z
UID:13685-1771617600-1771621200@aaregina.org
SUMMARY:Curtis S. 1 Year- Vibank Group
DESCRIPTION:Please join us in celebrating Curtis S. for his 1 year sobriety birthday. This will be an open meeting with food and fellowship to follow.  \n\n\n\n\n\n\n\n\n1-yr-AA-for-Curtis-S\n\n\n1 yr AA for Curtis SDownload
URL:https://aaregina.org/event/curtis-s-1-year-vibank-group/
LOCATION:Sk.
CATEGORIES:Birthday
END:VEVENT
BEGIN:VEVENT
DTSTART;TZID=America/Regina:20260223T172500
DTEND;TZID=America/Regina:20260223T182500
DTSTAMP:20260425T083154
CREATED:20260119T162721Z
LAST-MODIFIED:20260119T162849Z
UID:13669-1771867500-1771871100@aaregina.org
SUMMARY:Sarah G. 1 yr- 5:25 Rolling Home Group
DESCRIPTION:Please join us for Sarah G’s 1 year sobriety celebration. This will be an open meeting.
URL:https://aaregina.org/event/sarah-g-1-yr-525-rolling-home-group/
LOCATION:Alano Club Regina\, 1165 Pasqua Street\, Regina\, SK\, Canada
CATEGORIES:Birthday
END:VEVENT
END:VCALENDAR